BEGIN:VCALENDAR
VERSION:2.0
PRODID:-//Ohio Arts Council - ECPv5.5.0.1//NONSGML v1.0//EN
CALSCALE:GREGORIAN
METHOD:PUBLISH
X-WR-CALNAME:Ohio Arts Council
X-ORIGINAL-URL:https://festival.ohioartscouncil.org
X-WR-CALDESC:Events for Ohio Arts Council
BEGIN:VTIMEZONE
TZID:America/New_York
BEGIN:DAYLIGHT
TZOFFSETFROM:-0500
TZOFFSETTO:-0400
TZNAME:EDT
DTSTART:20210314T070000
END:DAYLIGHT
BEGIN:STANDARD
TZOFFSETFROM:-0400
TZOFFSETTO:-0500
TZNAME:EST
DTSTART:20211107T060000
END:STANDARD
BEGIN:DAYLIGHT
TZOFFSETFROM:-0500
TZOFFSETTO:-0400
TZNAME:EDT
DTSTART:20220313T070000
END:DAYLIGHT
BEGIN:STANDARD
TZOFFSETFROM:-0400
TZOFFSETTO:-0500
TZNAME:EST
DTSTART:20221106T060000
END:STANDARD
END:VTIMEZONE
BEGIN:VEVENT
DTSTART;VALUE=DATE:20210522
DTEND;VALUE=DATE:20210523
DTSTAMP:20210421T081147
CREATED:20210211T213726Z
LAST-MODIFIED:20210211T213726Z
UID:10631-1621641600-1621727999@festival.ohioartscouncil.org
SUMMARY:Central Ohio Folk Festival 2021 – A Virtual Event
DESCRIPTION:Central Ohio Folk Festival – Sat\, May 22\, 11 a.m. – 9:30 p.m.  An all-day virtual event in 2021 produced by the Columbus Folk Music Society and co-sponsored by WCBE 90.5FM. \nMultiple daytime performers\, interactive music workshops\, kid’s programming and crafts. The Saturday evening headliner is international touring Americana duo Larry Campbell and Teresa Williams. In 2008\, Larry was awarded the Americana Music Association Lifetime Achievement Award for Instrumentalist and is perhaps best known for being a member of Bob Dylan’s tour band from 2007 to 2004.  \nAlso expect talent-filled daytime performances representing a wide swath of roots music: folk\, bluegrass\, old-time\, Americana\, and singer-songwriter. Kids’ programming includes Columbus favorite The Shazzbots\, as well as additional interactive programming with veteran kids’ musicians and craft sessions. In addition\, there are seven interactive workshops covering everything from guitar and ukulele\, to banjo and old-time fiddle. \nFestival access this year is by ticket purchase only. Tickets are $15 for an individual OR $25 for a household. Ticket purchase gains access to ALL festival events\, including the headliner concert.  \nTickets available at: https://coffest.eventbrite.com. \nFor additional festival information\, visit: www.columbusfolkmusicsociety.org/festival.
URL:https://festival.ohioartscouncil.org/event/central-ohio-folk-festival-2021-a-virtual-event/
LOCATION:Online
CATEGORIES:Franklin County,Music Festival
ATTACH;FMTTYPE=image/jpeg:https://festival.ohioartscouncil.org/wp-content/uploads/2021/02/47048038914_c9fa27e4f8_k.jpg
ORGANIZER;CN="Columbus%20Folk%20Music%20Society":MAILTO:info@columbusfolkmusicsociety.org
END:VEVENT
BEGIN:VEVENT
DTSTART;TZID=America/New_York:20210717T100000
DTEND;TZID=America/New_York:20210717T170000
DTSTAMP:20210421T081147
CREATED:20200127T204026Z
LAST-MODIFIED:20200420T123730Z
UID:9658-1626516000-1626541200@festival.ohioartscouncil.org
SUMMARY:Art In The Park
DESCRIPTION:Art in The Park\, held on the shady green of Medina Square\, returns for the 47th year. Stroll through 130 tents of fine artists representing painters\, photographers\, sculptors\, ceramicists\, jewelers\, and much more. Music plays in the afternoon\, and there are many places to get great food to eat. Stop by the Scholarship Tent to buy a chance to win a piece of art donated by the exhibitors. Scholarships go to budding Medina County High School seniors. Free parking in city lots. Event is held rain or shine.
URL:https://festival.ohioartscouncil.org/event/art-in-the-park-2/
LOCATION:Medina Square\, 2 Public Square\, Medina\, OH\, 44256\, United States
CATEGORIES:Art Festival,Medina County
ORGANIZER;CN="Medina%20County%20Art%20League":MAILTO:medinacountyartleague@gmail.com
END:VEVENT
BEGIN:VEVENT
DTSTART;TZID=America/New_York:20210814T100000
DTEND;TZID=America/New_York:20210814T170000
DTSTAMP:20210421T081147
CREATED:20200116T181709Z
LAST-MODIFIED:20200228T163407Z
UID:9650-1628935200-1628960400@festival.ohioartscouncil.org
SUMMARY:pARTy!
DESCRIPTION:Come celebrate the arts in historic Downtown Salem. There are activities for children\, an art and photo semi-juried competition\, sidewalk chalk art\, vendors\, and more! \nVendors are welcome to apply for a space early. \nGet your entry in early for the art and photography competition!
URL:https://festival.ohioartscouncil.org/event/party/2021-08-14/
LOCATION:Salem\, Ohio\, Salem\, OH\, 44460\, United States
CATEGORIES:Art Festival
ORGANIZER;CN="Salem%20Second%20Saturday":MAILTO:adamsjennifer2017@gmail.com
END:VEVENT
BEGIN:VEVENT
DTSTART;TZID=America/New_York:20211119T170000
DTEND;TZID=America/New_York:20211120T170000
DTSTAMP:20210421T081147
CREATED:20191028T191558Z
LAST-MODIFIED:20200228T173109Z
UID:8439-1637341200-1637427600@festival.ohioartscouncil.org
SUMMARY:Season's Splendor Arts and Crafts Show
DESCRIPTION:Featuring more than 120 juried arts and crafts vendors. No commercial or direct sales. All on one floor\, food available for purchase\, free admission\, and free parking. Vendors displaying items such as baskets\, floral\, jewelry\, candles\, sewn items\, wood items\, pottery\, clothing\, stained glass\, personal products\, pet items\, fiber items\, dolls and doll clothes\, purses\, totes\, primitive\, paintings\, holiday décor\, etc.
URL:https://festival.ohioartscouncil.org/event/seasons-splendor-arts-and-crafts-show-2/2021-11-19/
LOCATION:Fisher Auditorium Shisler Conference Center\, 1680 Madison Ave.\, Wooster\, OH\, 44691\, United States
CATEGORIES:Art Festival,Craft Fair,Wayne County
ORGANIZER;CN="Wayne%20County%20Arts%20and%20Crafts%20Guild":MAILTO:blough@sssnet.com
END:VEVENT
BEGIN:VEVENT
DTSTART;TZID=America/New_York:20211203T120000
DTEND;TZID=America/New_York:20211205T160000
DTSTAMP:20210421T081147
CREATED:20191028T161948Z
LAST-MODIFIED:20210122T190226Z
UID:6465-1638532800-1638720000@festival.ohioartscouncil.org
SUMMARY:41st Annual E.J. Thomas Christmas Arts and Crafts Show
DESCRIPTION:A very lovely\, high-quality\, and festive hand-crafted show. A tradition in Akron for more than 41 years. \nEvent times: \n\nDec. 3\, 2021: Noon – 7 p.m.\nDec. 4\, 2021: 10 a.m. – 6 p.m.\nDec. 5\, 2021: 10 a.m. – 4 p.m.\n\nAdmission details: \n\nGeneral: $5; Seniors: $4.50; Children 12 and under: Free
URL:https://festival.ohioartscouncil.org/event/40th-annual-e-j-thomas-christmas-arts-and-crafts-show/
LOCATION:E.J. Thomas Hall\, 198 Hill St.\, Akron\, OH\, 44325\, United States
CATEGORIES:Art Festival,Art Sale,Craft Fair,Summit County
ATTACH;FMTTYPE=image/jpeg:https://festival.ohioartscouncil.org/wp-content/uploads/2019/10/DSC_2263-2.jpg
ORGANIZER;CN="Raab%20Enterprises%20Incorporated":MAILTO:raabshows@gmail.com
END:VEVENT
BEGIN:VEVENT
DTSTART;TZID=America/New_York:20220225T170000
DTEND;TZID=America/New_York:20220226T160000
DTSTAMP:20210421T081147
CREATED:20191028T191419Z
LAST-MODIFIED:20200227T194051Z
UID:9676-1645808400-1645891200@festival.ohioartscouncil.org
SUMMARY:Annual Spring Arts and Crafts Show
DESCRIPTION:Featuring more than 100 juried arts and crafts vendors. No commercial or direct sales. All on one floor\, food available\, free admission\, and free parking. Vendors displaying artwork such as baskets\, floral\, jewelry\, candles\, rugs\, sewn items\, dolls and doll clothes\, paintings\, pottery\, soaps and lotions\, clothing\, wood items\, stained glass\, purses\, totes\, primitives\, pet items\, fiber items\, holiday décor\, etc.
URL:https://festival.ohioartscouncil.org/event/annual-spring-arts-and-crafts-show/2022-02-25/
LOCATION:Fisher Auditorium Shisler Conference Center\, 1680 Madison Ave.\, Wooster\, OH\, 44691\, United States
CATEGORIES:Art Festival,Craft Fair,Wayne County
ORGANIZER;CN="Wayne%20County%20Arts%20and%20Crafts%20Guild":MAILTO:blough@sssnet.com
END:VEVENT
END:VCALENDAR